BEGIN:VCALENDAR
VERSION:2.0
METHOD:PUBLISH
PRODID:-//Accessible Web Design//My Calendar//http://www.joedolson.com//v3.2.17//EN';
BEGIN:VEVENT
UID:71-60
LOCATION:
SUMMARY:●ビストロバー･massa
DTSTAMP:20220113T190000
ORGANIZER;CN=YOU JOE:MAILTO:youjoe.f@gmail.com
DTSTART:20220113T190000
DTEND:20220113T230000
CATEGORIES:カジュアルライブ
URL;VALUE=URI:https://www.youjoe.com/restaurant_bar/
DESCRIPTION;ENCODING=QUOTED-PRINTABLE: https://www.youjoe.com/restaurant_bar/
END:VEVENT
END:VCALENDAR