BEGIN:VCALENDAR
VERSION:2.0
METHOD:PUBLISH
PRODID:-//Accessible Web Design//My Calendar//http://www.joedolson.com//v3.2.17//EN';
BEGIN:VEVENT
UID:596-563
LOCATION:
SUMMARY:●名古屋守山/悠情楽団@守山文化小劇場
DTSTAMP:20260621T173000
ORGANIZER;CN=YOU JOE:MAILTO:youjoe.f@gmail.com
DTSTART:20260621T173000
DTEND:20260621T200000
CATEGORIES:LIVE
URL;VALUE=URI:https://www.youjoe.com/20260621/
DESCRIPTION;ENCODING=QUOTED-PRINTABLE: https://www.youjoe.com/20260621/
END:VEVENT
END:VCALENDAR