BEGIN:VCALENDAR
VERSION:2.0
METHOD:PUBLISH
PRODID:-//Accessible Web Design//My Calendar//http://www.joedolson.com//v3.2.17//EN';
BEGIN:VEVENT
UID:595-562
LOCATION:
SUMMARY:●西尾吉良 / ﾌｨﾄﾞﾗｰｽﾞﾗｲﾌﾞ@きーずﾊｳｽ
DTSTAMP:20260524T133000
ORGANIZER;CN=YOU JOE:MAILTO:youjoe.f@gmail.com
DTSTART:20260524T133000
DTEND:20260524T143000
CATEGORIES:LIVE
URL;VALUE=URI:https://www.youjoe.com/20260524-2/
DESCRIPTION;ENCODING=QUOTED-PRINTABLE: https://www.youjoe.com/20260524-2/
END:VEVENT
END:VCALENDAR