BEGIN:VCALENDAR
VERSION:2.0
METHOD:PUBLISH
PRODID:-//Accessible Web Design//My Calendar//http://www.joedolson.com//v3.2.17//EN';
BEGIN:VEVENT
UID:593-560
LOCATION:
SUMMARY:●愛知西尾/美味しい海鮮とﾌｨﾄﾞﾗｰｽﾞ@ぽわそん
DTSTAMP:20260519T173000
ORGANIZER;CN=YOU JOE:MAILTO:youjoe.f@gmail.com
DTSTART:20260519T173000
DTEND:20260519T210000
CATEGORIES:LIVE
URL;VALUE=URI:https://www.youjoe.com/20260519-2/
DESCRIPTION;ENCODING=QUOTED-PRINTABLE: https://www.youjoe.com/20260519-2/
END:VEVENT
END:VCALENDAR