BEGIN:VCALENDAR
VERSION:2.0
METHOD:PUBLISH
PRODID:-//Accessible Web Design//My Calendar//http://www.joedolson.com//v3.2.17//EN';
BEGIN:VEVENT
UID:592-559
LOCATION:
SUMMARY:●岐阜県美濃市 2ｽﾃｰｼﾞ/ﾌｨﾄﾞﾗｰｽﾞﾗｲﾌﾞ@風の家
DTSTAMP:20260517T120000
ORGANIZER;CN=YOU JOE:MAILTO:youjoe.f@gmail.com
DTSTART:20260517T120000
DTEND:20260517T210000
CATEGORIES:LIVE
URL;VALUE=URI:https://www.youjoe.com/20260517-2/
DESCRIPTION;ENCODING=QUOTED-PRINTABLE: https://www.youjoe.com/20260517-2/
END:VEVENT
END:VCALENDAR