BEGIN:VCALENDAR
VERSION:2.0
METHOD:PUBLISH
PRODID:-//Accessible Web Design//My Calendar//http://www.joedolson.com//v3.2.17//EN';
BEGIN:VEVENT
UID:587-554
LOCATION:アイリッシュパブ・アンカーズ 幸町5−１  碧南市 愛知県 4470043
SUMMARY:●愛知県碧南市/悠情 筒井進吾＠Irish Pubｱﾝｶｰｽﾞ
DTSTAMP:20260314T193000
ORGANIZER;CN=YOU JOE:MAILTO:youjoe.f@gmail.com
DTSTART:20260314T193000
DTEND:20260314T230000
CATEGORIES:カジュアルライブ
URL;VALUE=URI:https://www.youjoe.com/irishpub/
DESCRIPTION;ENCODING=QUOTED-PRINTABLE: https://www.youjoe.com/irishpub/
END:VEVENT
END:VCALENDAR