BEGIN:VCALENDAR
VERSION:2.0
METHOD:PUBLISH
PRODID:-//Accessible Web Design//My Calendar//http://www.joedolson.com//v3.2.17//EN';
BEGIN:VEVENT
UID:586-553
LOCATION:アイリッシュパブ シャムロック 中区栄1-5-14  モモタロービルB1 名古屋 愛知
SUMMARY:●名古屋市中区/悠情 筒井進吾＠Irish Pubｼｬﾑﾛｯｸ
DTSTAMP:20260313T200000
ORGANIZER;CN=YOU JOE:MAILTO:youjoe.f@gmail.com
DTSTART:20260313T200000
DTEND:20260313T230000
CATEGORIES:カジュアルライブ
URL;VALUE=URI:https://www.youjoe.com/irishpub/
DESCRIPTION;ENCODING=QUOTED-PRINTABLE: https://www.youjoe.com/irishpub/
END:VEVENT
END:VCALENDAR