BEGIN:VCALENDAR
VERSION:2.0
METHOD:PUBLISH
PRODID:-//Accessible Web Design//My Calendar//http://www.joedolson.com//v3.2.17//EN';
BEGIN:VEVENT
UID:531-500
LOCATION:tonarino 名城１丁目２  名古屋市北区 愛知県 462-0846
SUMMARY:●名古屋市北区 / f-leaves music 企画 / トナリノフォーク･フェス@名城公園
DTSTAMP:20251109T100000
ORGANIZER;CN=YOU JOE:MAILTO:youjoe.f@gmail.com
DTSTART:20251109T100000
DTEND:20251109T110000
CATEGORIES:EVENT
URL;VALUE=URI:https://www.youjoe.com/20251109-2/
DESCRIPTION;ENCODING=QUOTED-PRINTABLE: https://www.youjoe.com/20251109-2/
END:VEVENT
END:VCALENDAR