BEGIN:VCALENDAR
VERSION:2.0
METHOD:PUBLISH
PRODID:-//Accessible Web Design//My Calendar//http://www.joedolson.com//v3.2.17//EN';
BEGIN:VEVENT
UID:514-483
LOCATION:オバッタベッタ 小幡緑地（本園）内 東山 名古屋市守山区 愛知県 4630006
SUMMARY:●名古屋市守山区/ｴﾌ･ﾘｰﾌﾞｽﾐｭｰｼﾞｯｸ企画　ﾏﾘｱ･ﾍﾞﾘｰﾀﾞﾝｽ@ﾚｽﾄﾗﾝ･ﾏﾒﾎﾞｼ
DTSTAMP:20250824T163000
ORGANIZER;CN=YOU JOE:MAILTO:youjoe.f@gmail.com
DTSTART:20250824T163000
DTEND:20250824T173000
CATEGORIES:食事付イベント
URL;VALUE=URI:https://www.youjoe.com/20250824/
DESCRIPTION;ENCODING=QUOTED-PRINTABLE: https://www.youjoe.com/20250824/
END:VEVENT
END:VCALENDAR