BEGIN:VCALENDAR
VERSION:2.0
METHOD:PUBLISH
PRODID:-//Accessible Web Design//My Calendar//http://www.joedolson.com//v3.2.17//EN';
BEGIN:VEVENT
UID:497-466
LOCATION:ワインレストラン NONE NAME 中央1-146-1 Southウォンキー91 1F 小牧市 愛知県 4850029
SUMMARY:●悠情&amp;力哉@ﾜｲﾝﾚｽﾄﾗﾝ Non Name/愛知県小牧市
DTSTAMP:20250406T173000
ORGANIZER;CN=YOU JOE:MAILTO:youjoe.f@gmail.com
DTSTART:20250406T173000
DTEND:20250406T183000
CATEGORIES:カジュアルライブ
URL;VALUE=URI:https://www.youjoe.com/restaurant_bar/
DESCRIPTION;ENCODING=QUOTED-PRINTABLE: https://www.youjoe.com/restaurant_bar/
END:VEVENT
END:VCALENDAR