BEGIN:VCALENDAR
VERSION:2.0
METHOD:PUBLISH
PRODID:-//Accessible Web Design//My Calendar//http://www.joedolson.com//v3.2.17//EN';
BEGIN:VEVENT
UID:478-447
LOCATION:
SUMMARY:●ｽﾄﾘｰﾄﾋﾟｱﾉ&amp;ｼﾞｬｽﾞﾗｲﾌﾞ@名城公園ﾌﾗﾜｰﾌﾟﾗｻﾞ
DTSTAMP:20250427T103000
ORGANIZER;CN=YOU JOE:MAILTO:youjoe.f@gmail.com
DTSTART:20250427T103000
DTEND:20250427T153000
CATEGORIES:EVENT
URL;VALUE=URI:https://www.youjoe.com/2025_0426_0427_flower/
DESCRIPTION;ENCODING=QUOTED-PRINTABLE: https://www.youjoe.com/2025_0426_0427_flower/
END:VEVENT
END:VCALENDAR