BEGIN:VCALENDAR
VERSION:2.0
METHOD:PUBLISH
PRODID:-//Accessible Web Design//My Calendar//http://www.joedolson.com//v3.2.17//EN';
BEGIN:VEVENT
UID:476-445
LOCATION:
SUMMARY:●街角悠情楽団@ｷｰｽﾞﾊｳｽ　愛知県西尾市吉良
DTSTAMP:20250322T130000
ORGANIZER;CN=YOU JOE:MAILTO:youjoe.f@gmail.com
DTSTART:20250322T130000
DTEND:20250322T140000
CATEGORIES:LIVE
URL;VALUE=URI:https://www.youjoe.com/20250322/
DESCRIPTION;ENCODING=QUOTED-PRINTABLE: https://www.youjoe.com/20250322/
END:VEVENT
END:VCALENDAR