BEGIN:VCALENDAR
VERSION:2.0
METHOD:PUBLISH
PRODID:-//Accessible Web Design//My Calendar//http://www.joedolson.com//v3.2.17//EN';
BEGIN:VEVENT
UID:472-441
LOCATION:
SUMMARY:●悠情楽団@ﾓﾅﾍﾟﾄﾛ/名古屋市中区栄
DTSTAMP:20250301T190000
ORGANIZER;CN=YOU JOE:MAILTO:youjoe.f@gmail.com
DTSTART:20250301T190000
DTEND:20250301T200000
CATEGORIES:LIVE
URL;VALUE=URI:https://www.youjoe.com/20250301/
DESCRIPTION;ENCODING=QUOTED-PRINTABLE: https://www.youjoe.com/20250301/
END:VEVENT
END:VCALENDAR