BEGIN:VCALENDAR
VERSION:2.0
METHOD:PUBLISH
PRODID:-//Accessible Web Design//My Calendar//http://www.joedolson.com//v3.2.17//EN';
BEGIN:VEVENT
UID:400-371
LOCATION:
SUMMARY:●ビアガーデン moon night2024　多治見市之倉
DTSTAMP:20240817T170000
ORGANIZER;CN=YOU JOE:MAILTO:youjoe.f@gmail.com
DTSTART:20240817T170000
DTEND:20240817T203000
CATEGORIES:EVENT
URL;VALUE=URI:https://www.youjoe.com/2024_08170818/
DESCRIPTION;ENCODING=QUOTED-PRINTABLE: https://www.youjoe.com/2024_08170818/
END:VEVENT
END:VCALENDAR