BEGIN:VCALENDAR
VERSION:2.0
METHOD:PUBLISH
PRODID:-//Accessible Web Design//My Calendar//http://www.joedolson.com//v3.2.17//EN';
BEGIN:VEVENT
UID:394-365
LOCATION:
SUMMARY:●ｲｵﾝ大府横根店ｵｰﾌﾟﾝ直前ｲﾍﾞﾝﾄ　愛知大府市
DTSTAMP:20240714T093000
ORGANIZER;CN=YOU JOE:MAILTO:youjoe.f@gmail.com
DTSTART:20240714T093000
DTEND:20240714T103000
CATEGORIES:EVENT
URL;VALUE=URI:https://www.youjoe.com/?p=2386&#038;preview=true
DESCRIPTION;ENCODING=QUOTED-PRINTABLE: https://www.youjoe.com/?p=2386&#038;preview=true
END:VEVENT
END:VCALENDAR