BEGIN:VCALENDAR
VERSION:2.0
METHOD:PUBLISH
PRODID:-//Accessible Web Design//My Calendar//http://www.joedolson.com//v3.2.17//EN';
BEGIN:VEVENT
UID:384-355
LOCATION:
SUMMARY:●昼の部  悠情楽団＠風のいえ　岐阜美濃市
DTSTAMP:20240609T110000
ORGANIZER;CN=YOU JOE:MAILTO:youjoe.f@gmail.com
DTSTART:20240609T110000
DTEND:20240609T120000
CATEGORIES:LIVE
URL;VALUE=URI:https://www.youjoe.com/2024_0608_0609/
DESCRIPTION;ENCODING=QUOTED-PRINTABLE: https://www.youjoe.com/2024_0608_0609/
END:VEVENT
END:VCALENDAR