BEGIN:VCALENDAR
VERSION:2.0
METHOD:PUBLISH
PRODID:-//Accessible Web Design//My Calendar//http://www.joedolson.com//v3.2.17//EN';
BEGIN:VEVENT
UID:362-329
LOCATION:アイリッシュパブ グリーンヒルズ 明大寺本町4-11 えきまえPENビル3F 岡崎 愛知 444-0860
SUMMARY:●悠情&amp;力哉@Irish Pub ｸﾞﾘｰﾝﾋﾙｽﾞ/ｾﾝﾊﾟﾄ/東岡崎
DTSTAMP:20240323T193000
ORGANIZER;CN=YOU JOE:MAILTO:youjoe.f@gmail.com
DTSTART:20240323T193000
DTEND:20240323T203000
CATEGORIES:EVENT
URL;VALUE=URI:https://www.youjoe.com/irishpub/
DESCRIPTION;ENCODING=QUOTED-PRINTABLE: https://www.youjoe.com/irishpub/
END:VEVENT
END:VCALENDAR