BEGIN:VCALENDAR
VERSION:2.0
METHOD:PUBLISH
PRODID:-//Accessible Web Design//My Calendar//http://www.joedolson.com//v3.2.17//EN';
BEGIN:VEVENT
UID:313-289
LOCATION:アイリッシュパブ シャムロック 中区栄1-5-14  モモタロービルB1 名古屋 愛知
SUMMARY:●悠情&amp;功刀丈弘@Irish Pub シャムロック名古屋栄伏見
DTSTAMP:20231024T200000
ORGANIZER;CN=YOU JOE:MAILTO:youjoe.f@gmail.com
DTSTART:20231024T200000
DTEND:20231024T223000
CATEGORIES:カジュアルライブ
URL;VALUE=URI:https://www.youjoe.com/irishpub/
DESCRIPTION;ENCODING=QUOTED-PRINTABLE: https://www.youjoe.com/irishpub/
END:VEVENT
END:VCALENDAR