BEGIN:VCALENDAR
VERSION:2.0
METHOD:PUBLISH
PRODID:-//Accessible Web Design//My Calendar//http://www.joedolson.com//v3.2.17//EN';
BEGIN:VEVENT
UID:274-252
LOCATION:
SUMMARY:●悠情 功刀丈弘 山下力哉 筒井進吾@ｷｰｽﾞﾊｳｽ　西尾市
DTSTAMP:20230815T140000
ORGANIZER;CN=YOU JOE:MAILTO:youjoe.f@gmail.com
DTSTART:20230815T140000
DTEND:20230815T160000
CATEGORIES:LIVE
URL;VALUE=URI:https://www.youjoe.com/20230815/
DESCRIPTION;ENCODING=QUOTED-PRINTABLE: https://www.youjoe.com/20230815/
END:VEVENT
END:VCALENDAR