BEGIN:VCALENDAR
VERSION:2.0
METHOD:PUBLISH
PRODID:-//Accessible Web Design//My Calendar//http://www.joedolson.com//v3.2.17//EN';
BEGIN:VEVENT
UID:101-88
LOCATION:ビストロ massa 滝川町47−４７  II・1F Ｇｒｕ 名古屋市昭和区  愛知県 466-0826
SUMMARY:●ビストロバー・massa
DTSTAMP:20220210T183000
ORGANIZER;CN=YOU JOE:MAILTO:youjoe.f@gmail.com
DTSTART:20220210T183000
DTEND:20220210T210000
CATEGORIES:カジュアルライブ
URL;VALUE=URI:https://www.youjoe.com/restaurant_bar/
DESCRIPTION;ENCODING=QUOTED-PRINTABLE: https://www.youjoe.com/restaurant_bar/
END:VEVENT
END:VCALENDAR